BEGIN:VCALENDAR
VERSION:2.0
PRODID:-//Näverket Hälsa och Demokrati - ECPv6.15.20//NONSGML v1.0//EN
CALSCALE:GREGORIAN
METHOD:PUBLISH
X-ORIGINAL-URL:https://natverken.se
X-WR-CALDESC:Händelser för Näverket Hälsa och Demokrati
REFRESH-INTERVAL;VALUE=DURATION:PT1H
X-Robots-Tag:noindex
X-PUBLISHED-TTL:PT1H
BEGIN:VTIMEZONE
TZID:Europe/Paris
BEGIN:DAYLIGHT
TZOFFSETFROM:+0100
TZOFFSETTO:+0200
TZNAME:CEST
DTSTART:20240331T010000
END:DAYLIGHT
BEGIN:STANDARD
TZOFFSETFROM:+0200
TZOFFSETTO:+0100
TZNAME:CET
DTSTART:20241027T010000
END:STANDARD
BEGIN:DAYLIGHT
TZOFFSETFROM:+0100
TZOFFSETTO:+0200
TZNAME:CEST
DTSTART:20250330T010000
END:DAYLIGHT
BEGIN:STANDARD
TZOFFSETFROM:+0200
TZOFFSETTO:+0100
TZNAME:CET
DTSTART:20251026T010000
END:STANDARD
BEGIN:DAYLIGHT
TZOFFSETFROM:+0100
TZOFFSETTO:+0200
TZNAME:CEST
DTSTART:20260329T010000
END:DAYLIGHT
BEGIN:STANDARD
TZOFFSETFROM:+0200
TZOFFSETTO:+0100
TZNAME:CET
DTSTART:20261025T010000
END:STANDARD
END:VTIMEZONE
BEGIN:VEVENT
DTSTART;TZID=Europe/Paris:20251121T080000
DTEND;TZID=Europe/Paris:20251121T090000
DTSTAMP:20260424T144038
CREATED:20250123T082624Z
LAST-MODIFIED:20251110T074422Z
UID:35286-1763712000-1763715600@natverken.se
SUMMARY:Gemensamt AU - 21 november 2025
DESCRIPTION:Dagordning:\n\nLaget runt – vad hjärtat är fullt av\nInför Års- och ägarmöte\nTemaseminarium i december – workshop\nVerksamhetsberättelse 2025 utkast\nKalendarium 2026\nEkonomi\nÖvrigt\n\n			\n				Anmälan och registrering
URL:https://natverken.se/aktivitet/gemensamt-au-21november/
LOCATION:Zoom-möte
CATEGORIES:Digitalt möte
ATTACH;FMTTYPE=image/jpeg:https://natverken.se/wp-content/uploads/2025/01/2bda40ed-2d78-41e6-8df3-8cd7840d516f.jpg
ORGANIZER;CN="N%C3%A4tverken":MAILTO:info@natverken.se
END:VEVENT
END:VCALENDAR